BEGIN:VCALENDAR
VERSION:2.0
PRODID:-//Helms Elementary PTA - ECPv6.15.20//NONSGML v1.0//EN
CALSCALE:GREGORIAN
METHOD:PUBLISH
X-WR-CALNAME:Helms Elementary PTA
X-ORIGINAL-URL:https://helmspta.org
X-WR-CALDESC:Events for Helms Elementary PTA
REFRESH-INTERVAL;VALUE=DURATION:PT1H
X-Robots-Tag:noindex
X-PUBLISHED-TTL:PT1H
BEGIN:VTIMEZONE
TZID:America/Chicago
BEGIN:DAYLIGHT
TZOFFSETFROM:-0600
TZOFFSETTO:-0500
TZNAME:CDT
DTSTART:20250309T080000
END:DAYLIGHT
BEGIN:STANDARD
TZOFFSETFROM:-0500
TZOFFSETTO:-0600
TZNAME:CST
DTSTART:20251102T070000
END:STANDARD
BEGIN:DAYLIGHT
TZOFFSETFROM:-0600
TZOFFSETTO:-0500
TZNAME:CDT
DTSTART:20260308T080000
END:DAYLIGHT
BEGIN:STANDARD
TZOFFSETFROM:-0500
TZOFFSETTO:-0600
TZNAME:CST
DTSTART:20261101T070000
END:STANDARD
BEGIN:DAYLIGHT
TZOFFSETFROM:-0600
TZOFFSETTO:-0500
TZNAME:CDT
DTSTART:20270314T080000
END:DAYLIGHT
BEGIN:STANDARD
TZOFFSETFROM:-0500
TZOFFSETTO:-0600
TZNAME:CST
DTSTART:20271107T070000
END:STANDARD
END:VTIMEZONE
BEGIN:VEVENT
DTSTART;TZID=America/Chicago:20260415T180000
DTEND;TZID=America/Chicago:20260415T190000
DTSTAMP:20260425T102853
CREATED:20251118T035127Z
LAST-MODIFIED:20251118T035127Z
UID:11694-1776276000-1776279600@helmspta.org
SUMMARY:PTA General Meeting
DESCRIPTION:Please join us for our monthly General PTA meeting. \nFree childcare will be provided. Translation available.
URL:https://helmspta.org/event/pta-general-meeting-25/
LOCATION:Helms Cafeteria\, 503 W. 21ST ST\, HOUSTON\, TX\, 77008\, United States
CATEGORIES:PTA General Meeting
ATTACH;FMTTYPE=image/png:https://helmspta.org/wp-content/uploads/2022/08/Helms_Meeting_v1.png
END:VEVENT
BEGIN:VEVENT
DTSTART;TZID=America/Chicago:20260425T110000
DTEND;TZID=America/Chicago:20260425T150000
DTSTAMP:20260425T102853
CREATED:20250814T022143Z
LAST-MODIFIED:20260404T042304Z
UID:10981-1777114800-1777129200@helmspta.org
SUMMARY:Helms Carnival
DESCRIPTION:
URL:https://helmspta.org/event/helms-carnival-2/
LOCATION:Helms Playground\, 503 W. 21ST ST\, HOUSTON\, TX\, 77008\, United States
ATTACH;FMTTYPE=image/png:https://helmspta.org/wp-content/uploads/2024/02/Carnival_logo_event.png
END:VEVENT
BEGIN:VEVENT
DTSTART;TZID=America/Chicago:20260520T180000
DTEND;TZID=America/Chicago:20260520T190000
DTSTAMP:20260425T102853
CREATED:20251118T035439Z
LAST-MODIFIED:20251118T035723Z
UID:11696-1779300000-1779303600@helmspta.org
SUMMARY:PTA General Meeting
DESCRIPTION:Please join us for our monthly General PTA meeting. \nFree childcare will be provided. Translation available.
URL:https://helmspta.org/event/pta-general-meeting-26/
LOCATION:Helms Cafeteria\, 503 W. 21ST ST\, HOUSTON\, TX\, 77008\, United States
CATEGORIES:PTA General Meeting
ATTACH;FMTTYPE=image/png:https://helmspta.org/wp-content/uploads/2022/08/Helms_Meeting_v1.png
END:VEVENT
END:VCALENDAR